BEGIN:VCALENDAR
VERSION:2.0
PRODID:-//N’Djoy - ECPv6.15.20//NONSGML v1.0//EN
CALSCALE:GREGORIAN
METHOD:PUBLISH
X-WR-CALNAME:N’Djoy
X-ORIGINAL-URL:https://ndjoy.nl
X-WR-CALDESC:Evenementen voor N’Djoy
REFRESH-INTERVAL;VALUE=DURATION:PT1H
X-Robots-Tag:noindex
X-PUBLISHED-TTL:PT1H
BEGIN:VTIMEZONE
TZID:Europe/Amsterdam
BEGIN:DAYLIGHT
TZOFFSETFROM:+0100
TZOFFSETTO:+0200
TZNAME:CEST
DTSTART:20160327T010000
END:DAYLIGHT
BEGIN:STANDARD
TZOFFSETFROM:+0200
TZOFFSETTO:+0100
TZNAME:CET
DTSTART:20161030T010000
END:STANDARD
BEGIN:DAYLIGHT
TZOFFSETFROM:+0100
TZOFFSETTO:+0200
TZNAME:CEST
DTSTART:20170326T010000
END:DAYLIGHT
BEGIN:STANDARD
TZOFFSETFROM:+0200
TZOFFSETTO:+0100
TZNAME:CET
DTSTART:20171029T010000
END:STANDARD
BEGIN:DAYLIGHT
TZOFFSETFROM:+0100
TZOFFSETTO:+0200
TZNAME:CEST
DTSTART:20180325T010000
END:DAYLIGHT
BEGIN:STANDARD
TZOFFSETFROM:+0200
TZOFFSETTO:+0100
TZNAME:CET
DTSTART:20181028T010000
END:STANDARD
BEGIN:DAYLIGHT
TZOFFSETFROM:+0100
TZOFFSETTO:+0200
TZNAME:CEST
DTSTART:20190331T010000
END:DAYLIGHT
BEGIN:STANDARD
TZOFFSETFROM:+0200
TZOFFSETTO:+0100
TZNAME:CET
DTSTART:20191027T010000
END:STANDARD
BEGIN:DAYLIGHT
TZOFFSETFROM:+0100
TZOFFSETTO:+0200
TZNAME:CEST
DTSTART:20200329T010000
END:DAYLIGHT
BEGIN:STANDARD
TZOFFSETFROM:+0200
TZOFFSETTO:+0100
TZNAME:CET
DTSTART:20201025T010000
END:STANDARD
END:VTIMEZONE
BEGIN:VEVENT
DTSTART;TZID=Europe/Amsterdam:20190716T090000
DTEND;TZID=Europe/Amsterdam:20190716T180000
DTSTAMP:20260420T183311
CREATED:20190107T150043Z
LAST-MODIFIED:20190107T150043Z
UID:2465-1563267600-1563300000@ndjoy.nl
SUMMARY:Routedag juli 2019
DESCRIPTION:Routedag juli 2019\n2-maandelijks bezoeken we tijdens een routedag de cliënten en hun dieren om de voerpakketten te bezorgen. Bij grotere donaties kunnen we op die dagen\, mits op de route\, ook bij jouw thuis langs komen om het op te halen. Heb je geen mogelijkheid een inzamelpunt te bezoeken en wil je toch graag doneren\, mail dan gerust naar info@ndjoy.nl \nDe routedag van maart is gepland op dinsdag 16 juli 2019. \nKlik hier voor alle routedagen in 2019.
URL:https://ndjoy.nl/event/routedag-juli-2019/
LOCATION:Noord-Brabant
CATEGORIES:routedag
END:VEVENT
BEGIN:VEVENT
DTSTART;TZID=Europe/Amsterdam:20190521T090000
DTEND;TZID=Europe/Amsterdam:20190521T180000
DTSTAMP:20260420T183311
CREATED:20190107T145234Z
LAST-MODIFIED:20190107T145407Z
UID:2462-1558429200-1558461600@ndjoy.nl
SUMMARY:Routedag 21 mei 2019
DESCRIPTION:Routedag mei 2019\n2-maandelijks bezoeken we tijdens een routedag de cliënten en hun dieren om de voerpakketten te bezorgen. Bij grotere donaties kunnen we op die dagen\, mits op de route\, ook bij jouw thuis langs komen om het op te halen. Heb je geen mogelijkheid een inzamelpunt te bezoeken en wil je toch graag doneren\, mail dan gerust naar info@ndjoy.nl \nDe routedag van maart is gepland op dinsdag 21 mei 2019. \nKlik hier voor alle routedagen in 2019.
URL:https://ndjoy.nl/event/routedag-21-mei-2019/
LOCATION:Noord-Brabant
CATEGORIES:routedag
END:VEVENT
BEGIN:VEVENT
DTSTART;TZID=Europe/Amsterdam:20190407T090000
DTEND;TZID=Europe/Amsterdam:20190407T163000
DTSTAMP:20260420T183311
CREATED:20190226T204030Z
LAST-MODIFIED:20190324T164306Z
UID:2656-1554627600-1554654600@ndjoy.nl
SUMMARY:N'Djoy Evenement 2019: zwemfestijn
DESCRIPTION:N’Djoy Evenement 2019: zwemfestijn\nOp zondag 7 april 2019 is het weer tijd voor het jaarlijkse evenement om de oprichting van N’Djoy te vieren. 🙂 Dit jaar organiseert N’Djoy een zwemfestijn bij de prachtig vernieuwde Hondenzwemvijver Ut Poeleke in Oeffelt! De opbrengst van dit evenement gaat naar N’Djoy en wordt besteed aan de honden en katten van minimabaasjes die bij ons zijn aangesloten. N’Djoy voorziet deze dieren van voer\, snacks en overige zaken omdat hun baasjes zelf de financiële middelen (even) niet meer hebben. Klik hier voor meer informatie of vul direct het aanmeldformulier in. Op onze Facebookpagina kun je iedereen laten weten dat je meedoet aan dit prachtige evenement!.
URL:https://ndjoy.nl/event/ndjoy-evenement-zwemfestijn/
LOCATION:Hondenzwemvijver ‘Ut Poeleke’\, Scheperstraat 2A\, Oeffelt\, Noord-Brabant\, 5441 PN\, Nederland
CATEGORIES:jaarlijkse viering oprichting N'Djoy,zwemfestijn
END:VEVENT
BEGIN:VEVENT
DTSTART;TZID=Europe/Amsterdam:20190326T090000
DTEND;TZID=Europe/Amsterdam:20190326T180000
DTSTAMP:20260420T183311
CREATED:20190107T144657Z
LAST-MODIFIED:20190107T145631Z
UID:2460-1553590800-1553623200@ndjoy.nl
SUMMARY:Routedag maart 2019
DESCRIPTION:Routedag maart 2019\n2-maandelijks bezoeken we tijdens een routedag de cliënten en hun dieren om de voerpakketten te bezorgen. Bij grotere donaties kunnen we op die dagen\, mits op de route\, ook bij jouw thuis langs komen om het op te halen. Heb je geen mogelijkheid een inzamelpunt te bezoeken en wil je toch graag doneren\, mail dan gerust naar info@ndjoy.nl \nDe routedag van maart is gepland op dinsdag 26 maart 2019. \nKlik hier voor alle routedagen in 2019.
URL:https://ndjoy.nl/event/routedag-maart-2019/
LOCATION:Noord-Brabant
CATEGORIES:routedag
END:VEVENT
BEGIN:VEVENT
DTSTART;VALUE=DATE:20190322
DTEND;VALUE=DATE:20190323
DTSTAMP:20260420T183311
CREATED:20190107T124234Z
LAST-MODIFIED:20190107T133143Z
UID:2443-1553212800-1553299199@ndjoy.nl
SUMMARY:Jaarlijkse viering oprichting N'Djoy
DESCRIPTION:Jaarlijkse viering oprichting N’Djoy 22 maart\nN’Djoy is opgericht op 22 maart 2016 en ieder jaar organiseren we een leuke activiteit! Houd onze Facebookpagina in de gaten voor het nieuws hierover.
URL:https://ndjoy.nl/event/jaarlijkse-viering-oprichting-ndjoy-22-maart-2016/
LOCATION:Hondenzwemvijver ‘Ut Poeleke’\, Scheperstraat 2A\, Oeffelt\, Noord-Brabant\, 5441 PN\, Nederland
CATEGORIES:jaarlijkse viering oprichting N'Djoy
ORGANIZER;CN="Kim de Bruijni":MAILTO:info@ndjoy.nl
END:VEVENT
BEGIN:VEVENT
DTSTART;TZID=Europe/Amsterdam:20190129T090000
DTEND;TZID=Europe/Amsterdam:20190129T180000
DTSTAMP:20260420T183311
CREATED:20190107T143404Z
LAST-MODIFIED:20190107T145448Z
UID:2455-1548752400-1548784800@ndjoy.nl
SUMMARY:Routedag januari 2019
DESCRIPTION:Routedag januari 2019\n2-maandelijks bezoeken we tijdens een routedag de cliënten en hun dieren om de voerpakketten te bezorgen. Bij grotere donaties kunnen we op die dagen\, mits op de route\, ook bij jouw thuis langs komen om het op te halen. Heb je geen mogelijkheid een inzamelpunt te bezoeken en wil je toch graag doneren\, mail dan gerust naar info@ndjoy.nl \nDe routedag in januari valt op dinsdag 29 januari 2019. \nKlik hier voor alle routedagen in 2019.
URL:https://ndjoy.nl/event/routedag-januari-2019/
LOCATION:Noord-Brabant
CATEGORIES:routedag
END:VEVENT
BEGIN:VEVENT
DTSTART;TZID=Europe/Amsterdam:20181212T160000
DTEND;TZID=Europe/Amsterdam:20181212T210000
DTSTAMP:20260420T183311
CREATED:20190107T173412Z
LAST-MODIFIED:20190107T173412Z
UID:2513-1544630400-1544648400@ndjoy.nl
SUMMARY:Kerstmarkt Wolfskuil Nijmegen
DESCRIPTION:Kerstmarkt Wolfskuil Nijmegen\nOp woensdag 12 december 2018 van 16.00 uur tot 21.00 uur stonden vrijwilligers van N’Djoy met een kraam op de gezellige kerstmarkt in de wijk Wolfskuil in Nijmegen. De opbrengst van de verkoop kwam ten goede aan de honden en katten van cliënten die N’Djoy ondersteunt. Bekijk het evenement met sfeervolle foto’s hier terug. \n 
URL:https://ndjoy.nl/event/kerstmarkt-wolfskuil-nijmegen/
LOCATION:Wolfskuil Nijmegen\, Looimolenweg 17\, Nijmegen\, Gelderland\, 6542 JN\, Nederland
CATEGORIES:braderie
END:VEVENT
BEGIN:VEVENT
DTSTART;VALUE=DATE:20181211
DTEND;VALUE=DATE:20190212
DTSTAMP:20260420T183311
CREATED:20190107T134422Z
LAST-MODIFIED:20190107T185811Z
UID:2451-1544486400-1549929599@ndjoy.nl
SUMMARY:Stem op N'Djoy!
DESCRIPTION:Stem op N’Djoy!\nWillen jullie stemmen op N’Djoy – voor hulp aan honden en hun baasjes? \nMet jouw stem maken we kans op een grandioze geldprijs voor het vrijwilligerswerk dat wij doen voor de honden en katten van minimagezinnen in de gemeenten Cuijk en Boxmeer (Noord-Brabant). De prijs wordt begin volgend jaar uitgereikt door het ministerie van VWS. \nhttps://www.vrijwilligersprijzen.nl/initiatief/ndjoy \nKlik op de link om te stemmen en je ontvangt vlak daarna in je mailbox een bevestigingsmail. Vergeet niet om je stem te bevestigen\, dan pas is je stem geldig! Stemmen mag met meerdere e-mailadressen\, gebruik ze allemaal! \n\nJe kunt stemmen tot en met 11 februari 2019! \n\nAlle informatie over dit initiatief en wat dit voor N’Djoy kan betekenen vind je hier.
URL:https://ndjoy.nl/event/stem-op-ndjoy/
LOCATION:online\, Nederland
END:VEVENT
BEGIN:VEVENT
DTSTART;VALUE=DATE:20181023
DTEND;VALUE=DATE:20181030
DTSTAMP:20260420T183311
CREATED:20190107T161430Z
LAST-MODIFIED:20190107T161430Z
UID:2486-1540252800-1540857599@ndjoy.nl
SUMMARY:Loterij voor N'Djoy door Kattenherplaatsing.nl
DESCRIPTION:Loterij voor N’Djoy door Kattenherplaatsing.nl\nMarieke en Karin van Kattenherplaatsing.nl hebben op hun Facebookpagina een loterij voor N’Djoy georganiseerd! Lees er hier alles over.
URL:https://ndjoy.nl/event/loterij-voor-ndjoy-door-kattenherplaatsing-nl/
LOCATION:Kattenherplaatsing.nl\, Nederland
CATEGORIES:Facebookactie
ORGANIZER;CN="Kattenherplaatsing.nl":MAILTO:info@kattenherplaatsing.nl
END:VEVENT
BEGIN:VEVENT
DTSTART;TZID=Europe/Amsterdam:20180527T143000
DTEND;TZID=Europe/Amsterdam:20180527T173000
DTSTAMP:20260420T183311
CREATED:20190107T153646Z
LAST-MODIFIED:20190107T153646Z
UID:2479-1527431400-1527442200@ndjoy.nl
SUMMARY:Succesvolle lezing Wolfhonden in samenwerking met Kynolanguage
DESCRIPTION:Foto: Willy Weessies\nSuccesvolle lezing Wolfhonden in samenwerking met Kynolanguage\nOp zondag 27 mei 2018 van 14.30 uur tot 17.30 uur organiseerde N’Djoy\, in samenwerking met Kynolanguage een succesvolle lezing over Wolfhonden. Meer informatie over deze lezing vind je hier.
URL:https://ndjoy.nl/event/succesvolle-lezing-wolfhonden-in-samenwerking-met-kynolanguage/
LOCATION:Kynologenvereniging Land Van Cuijk\, Diepestraat 16\, Cuijk\, Noord-Brabant\, 5434 SC\, Nederland
CATEGORIES:lezing
END:VEVENT
BEGIN:VEVENT
DTSTART;VALUE=DATE:20180408
DTEND;VALUE=DATE:20180409
DTSTAMP:20260420T183311
CREATED:20190107T183707Z
LAST-MODIFIED:20220118T102551Z
UID:2534-1523145600-1523231999@ndjoy.nl
SUMMARY:Georganiseerde hondenwandeling in samenwerking met Hondenzwemvijver Ut Poeleke in Oeffelt
DESCRIPTION:Georganiseerde hondenwandeling in samenwerking met Hondenzwemvijver Ut Poeleke in Oeffelt\nN’Djoy heeft op 8 april 2018 een georganiseerde hondenwandeling met een zwempartij bij Hondenzwemvijver Ut Poeleke in Oeffelt geregeld. De opbrengst van deze benefietwandeling ging naar N’Djoy en werd besteed aan de honden en katten van minimbaasjes die bij ons zijn aangesloten. N’Djoy voorziet deze dieren van voer\, snacks en overige zaken omdat hun baasjes zelf de financiële middelen (even) niet meer hebben. Dit doen we gratis en voor niets! Een verslag en sfeerimpressie van deze prachtige en geslaagde dag vind je hier.
URL:https://ndjoy.nl/event/georganiseerde-hondenwandeling-hondenzwemvijver-poeleke-oeffelt/
LOCATION:Hondenzwemvijver ‘Ut Poeleke’\, Scheperstraat 2A\, Oeffelt\, Noord-Brabant\, 5441 PN\, Nederland
CATEGORIES:georganiseerde hondenwandeling
ORGANIZER;CN="N'Djoy":MAILTO:info@ndjoy.nl
END:VEVENT
BEGIN:VEVENT
DTSTART;VALUE=DATE:20170418
DTEND;VALUE=DATE:20170530
DTSTAMP:20260420T183311
CREATED:20190107T175418Z
LAST-MODIFIED:20190107T175453Z
UID:2519-1492473600-1496102399@ndjoy.nl
SUMMARY:Statiegeldzuil Jumbo Cuijk april-mei 2017
DESCRIPTION:Statiegeldzuil Jumbo Cuijk april-mei 2017\n18 april 2017 presenteerde N’Djoy zich bij Jumbo Cuijk in de Heeswijkse Kampen! Tot 29 mei 2017 kon iedereen zijn statiegeldbonnetjes doneren in de speciale statiegeldzuil van N’Djoy. Van deze donaties kon N’Djoy voer en snacks kopen voor de honden en katten die zij verzorgt.
URL:https://ndjoy.nl/event/statiegeldzuil-jumbo-cuijk-april-mei-2017/
LOCATION:Jumbo Cuijk\, Lavendel 382\, Cuijk\, Noord-Brabant\, 5432 DW\, Nederland
CATEGORIES:statiegeldzuil
END:VEVENT
END:VCALENDAR