BEGIN:VCALENDAR
VERSION:2.0
PRODID:-//N’Djoy - ECPv6.15.20//NONSGML v1.0//EN
CALSCALE:GREGORIAN
METHOD:PUBLISH
X-ORIGINAL-URL:https://ndjoy.nl
X-WR-CALDESC:Evenementen voor N’Djoy
REFRESH-INTERVAL;VALUE=DURATION:PT1H
X-Robots-Tag:noindex
X-PUBLISHED-TTL:PT1H
BEGIN:VTIMEZONE
TZID:Europe/Amsterdam
BEGIN:DAYLIGHT
TZOFFSETFROM:+0100
TZOFFSETTO:+0200
TZNAME:CEST
DTSTART:20180325T010000
END:DAYLIGHT
BEGIN:STANDARD
TZOFFSETFROM:+0200
TZOFFSETTO:+0100
TZNAME:CET
DTSTART:20181028T010000
END:STANDARD
BEGIN:DAYLIGHT
TZOFFSETFROM:+0100
TZOFFSETTO:+0200
TZNAME:CEST
DTSTART:20190331T010000
END:DAYLIGHT
BEGIN:STANDARD
TZOFFSETFROM:+0200
TZOFFSETTO:+0100
TZNAME:CET
DTSTART:20191027T010000
END:STANDARD
BEGIN:DAYLIGHT
TZOFFSETFROM:+0100
TZOFFSETTO:+0200
TZNAME:CEST
DTSTART:20200329T010000
END:DAYLIGHT
BEGIN:STANDARD
TZOFFSETFROM:+0200
TZOFFSETTO:+0100
TZNAME:CET
DTSTART:20201025T010000
END:STANDARD
END:VTIMEZONE
BEGIN:VEVENT
DTSTART;TZID=Europe/Amsterdam:20190716T090000
DTEND;TZID=Europe/Amsterdam:20190716T180000
DTSTAMP:20260421T020902
CREATED:20190107T150043Z
LAST-MODIFIED:20190107T150043Z
UID:2465-1563267600-1563300000@ndjoy.nl
SUMMARY:Routedag juli 2019
DESCRIPTION:Routedag juli 2019\n2-maandelijks bezoeken we tijdens een routedag de cliënten en hun dieren om de voerpakketten te bezorgen. Bij grotere donaties kunnen we op die dagen\, mits op de route\, ook bij jouw thuis langs komen om het op te halen. Heb je geen mogelijkheid een inzamelpunt te bezoeken en wil je toch graag doneren\, mail dan gerust naar info@ndjoy.nl \nDe routedag van maart is gepland op dinsdag 16 juli 2019. \nKlik hier voor alle routedagen in 2019.
URL:https://ndjoy.nl/event/routedag-juli-2019/
CATEGORIES:routedag
END:VEVENT
BEGIN:VEVENT
DTSTART;TZID=Europe/Amsterdam:20190521T090000
DTEND;TZID=Europe/Amsterdam:20190521T180000
DTSTAMP:20260421T020902
CREATED:20190107T145234Z
LAST-MODIFIED:20190107T145407Z
UID:2462-1558429200-1558461600@ndjoy.nl
SUMMARY:Routedag 21 mei 2019
DESCRIPTION:Routedag mei 2019\n2-maandelijks bezoeken we tijdens een routedag de cliënten en hun dieren om de voerpakketten te bezorgen. Bij grotere donaties kunnen we op die dagen\, mits op de route\, ook bij jouw thuis langs komen om het op te halen. Heb je geen mogelijkheid een inzamelpunt te bezoeken en wil je toch graag doneren\, mail dan gerust naar info@ndjoy.nl \nDe routedag van maart is gepland op dinsdag 21 mei 2019. \nKlik hier voor alle routedagen in 2019.
URL:https://ndjoy.nl/event/routedag-21-mei-2019/
CATEGORIES:routedag
END:VEVENT
BEGIN:VEVENT
DTSTART;TZID=Europe/Amsterdam:20190326T090000
DTEND;TZID=Europe/Amsterdam:20190326T180000
DTSTAMP:20260421T020902
CREATED:20190107T144657Z
LAST-MODIFIED:20190107T145631Z
UID:2460-1553590800-1553623200@ndjoy.nl
SUMMARY:Routedag maart 2019
DESCRIPTION:Routedag maart 2019\n2-maandelijks bezoeken we tijdens een routedag de cliënten en hun dieren om de voerpakketten te bezorgen. Bij grotere donaties kunnen we op die dagen\, mits op de route\, ook bij jouw thuis langs komen om het op te halen. Heb je geen mogelijkheid een inzamelpunt te bezoeken en wil je toch graag doneren\, mail dan gerust naar info@ndjoy.nl \nDe routedag van maart is gepland op dinsdag 26 maart 2019. \nKlik hier voor alle routedagen in 2019.
URL:https://ndjoy.nl/event/routedag-maart-2019/
CATEGORIES:routedag
END:VEVENT
BEGIN:VEVENT
DTSTART;TZID=Europe/Amsterdam:20190129T090000
DTEND;TZID=Europe/Amsterdam:20190129T180000
DTSTAMP:20260421T020902
CREATED:20190107T143404Z
LAST-MODIFIED:20190107T145448Z
UID:2455-1548752400-1548784800@ndjoy.nl
SUMMARY:Routedag januari 2019
DESCRIPTION:Routedag januari 2019\n2-maandelijks bezoeken we tijdens een routedag de cliënten en hun dieren om de voerpakketten te bezorgen. Bij grotere donaties kunnen we op die dagen\, mits op de route\, ook bij jouw thuis langs komen om het op te halen. Heb je geen mogelijkheid een inzamelpunt te bezoeken en wil je toch graag doneren\, mail dan gerust naar info@ndjoy.nl \nDe routedag in januari valt op dinsdag 29 januari 2019. \nKlik hier voor alle routedagen in 2019.
URL:https://ndjoy.nl/event/routedag-januari-2019/
CATEGORIES:routedag
END:VEVENT
END:VCALENDAR