BEGIN:VCALENDAR
VERSION:2.0
PRODID:-//N’Djoy - ECPv6.15.20//NONSGML v1.0//EN
CALSCALE:GREGORIAN
METHOD:PUBLISH
X-ORIGINAL-URL:https://ndjoy.nl
X-WR-CALDESC:Evenementen voor N’Djoy
REFRESH-INTERVAL;VALUE=DURATION:PT1H
X-Robots-Tag:noindex
X-PUBLISHED-TTL:PT1H
BEGIN:VTIMEZONE
TZID:Europe/Amsterdam
BEGIN:DAYLIGHT
TZOFFSETFROM:+0100
TZOFFSETTO:+0200
TZNAME:CEST
DTSTART:20170326T010000
END:DAYLIGHT
BEGIN:STANDARD
TZOFFSETFROM:+0200
TZOFFSETTO:+0100
TZNAME:CET
DTSTART:20171029T010000
END:STANDARD
BEGIN:DAYLIGHT
TZOFFSETFROM:+0100
TZOFFSETTO:+0200
TZNAME:CEST
DTSTART:20180325T010000
END:DAYLIGHT
BEGIN:STANDARD
TZOFFSETFROM:+0200
TZOFFSETTO:+0100
TZNAME:CET
DTSTART:20181028T010000
END:STANDARD
BEGIN:DAYLIGHT
TZOFFSETFROM:+0100
TZOFFSETTO:+0200
TZNAME:CEST
DTSTART:20190331T010000
END:DAYLIGHT
BEGIN:STANDARD
TZOFFSETFROM:+0200
TZOFFSETTO:+0100
TZNAME:CET
DTSTART:20191027T010000
END:STANDARD
END:VTIMEZONE
BEGIN:VEVENT
DTSTART;TZID=Europe/Amsterdam:20181212T160000
DTEND;TZID=Europe/Amsterdam:20181212T210000
DTSTAMP:20260421T010021
CREATED:20190107T173412Z
LAST-MODIFIED:20190107T173412Z
UID:2513-1544630400-1544648400@ndjoy.nl
SUMMARY:Kerstmarkt Wolfskuil Nijmegen
DESCRIPTION:Kerstmarkt Wolfskuil Nijmegen\nOp woensdag 12 december 2018 van 16.00 uur tot 21.00 uur stonden vrijwilligers van N’Djoy met een kraam op de gezellige kerstmarkt in de wijk Wolfskuil in Nijmegen. De opbrengst van de verkoop kwam ten goede aan de honden en katten van cliënten die N’Djoy ondersteunt. Bekijk het evenement met sfeervolle foto’s hier terug. \n 
URL:https://ndjoy.nl/event/kerstmarkt-wolfskuil-nijmegen/
LOCATION:Wolfskuil Nijmegen\, Looimolenweg 17\, Nijmegen\, Gelderland\, 6542 JN\, Nederland
CATEGORIES:braderie
END:VEVENT
END:VCALENDAR